BEGIN:VCALENDAR
VERSION:2.0
PRODID:-//eventon.com NONSGML v1.0//EN
CALSCALE:GREGORIAN
METHOD:PUBLISH
BEGIN:VEVENT
UID:69e5fda1da9ac
DTSTAMP:20260420T031913
DTSTART:20260312T183000Z
DTEND:20260312T203000Z
TZID:America/New_York
LOCATION:
SUMMARY:Animal Chakra Healing Celebration at Circles of Wisdom in Methuen\,  MA
DESCRIPTION:Animal Chakra Healing Celebration Save 20% on all of Joan’s books when you attend the event. Come join us to celebrate Joan’s latest book Animal Chakra Healing\,  Bringing Balance\,  Health\,  and Joy to our Animal Companions. The new book focuses on improving our animals’ mental\,  physical\,  and emotional life by[..]\nhttps://cwalu.com/events/animal-chakra-healing-celebration-at-circles-of-wisdom-in-methuen-ma/
URL:https://cwalu.com/events/animal-chakra-healing-celebration-at-circles-of-wisdom-in-methuen-ma/
END:VEVENT
END:VCALENDAR