BEGIN:VCALENDAR
VERSION:2.0
PRODID:-//eventon.com NONSGML v1.0//EN
CALSCALE:GREGORIAN
METHOD:PUBLISH
BEGIN:VEVENT
UID:69e5f956d83a9
DTSTAMP:20260420T030054
DTSTART:20260313T183000Z
DTEND:20260313T203000Z
TZID:America/New_York
LOCATION:
SUMMARY:What's Your Animal's Problem at Circles of Wisdom in Methuen\,  MA
DESCRIPTION:What&#8217;s Your Animal&#8217;s Problem: Animal Readings &amp; EFT Demonstration Please bring a picture of an animal you would want a reading for during the event. Joan will do as many readings as possible\,  but there is no guarantee you will get a reading when you attend. Join Joan Ranquet for[..]\nhttps://cwalu.com/events/whats-your-animals-problem-at-circles-of-wisdom-in-methuen-ma/
URL:https://cwalu.com/events/whats-your-animals-problem-at-circles-of-wisdom-in-methuen-ma/
END:VEVENT
END:VCALENDAR