BEGIN:VCALENDAR
VERSION:2.0
PRODID:-//eventon.com NONSGML v1.0//EN
CALSCALE:GREGORIAN
METHOD:PUBLISH
BEGIN:VEVENT
UID:69e5fc3aa2e73
DTSTAMP:20260420T031314
DTSTART:20260315T100000Z
DTEND:20260315T170000Z
TZID:America/New_York
LOCATION:
SUMMARY:Animal Communication at Circles of Wisdom in Methuen\,  MA
DESCRIPTION:Animal Communication Early Bird Special! Save $55.00 if you register before 9/30\,  only $195.  Using games and exercises\,  students learn how to use telepathy (the sending and receiving of pictures\,  words\,  and feelings) to enhance their human/animal relationships. After a brief description of how telepathy works\,  students will experience animal[..]\nhttps://cwalu.com/events/animal-communication-at-circles-of-wisdom-in-methuen-ma-2/
URL:https://cwalu.com/events/animal-communication-at-circles-of-wisdom-in-methuen-ma-2/
END:VEVENT
END:VCALENDAR