BEGIN:VCALENDAR
VERSION:2.0
PRODID:-//eventon.com NONSGML v1.0//EN
CALSCALE:GREGORIAN
METHOD:PUBLISH
BEGIN:VEVENT
UID:69e750e90eaab
DTSTAMP:20260421T032649
DTSTART:20241106T120000Z
DTEND:20241106T170000Z
TZID:America/Los_Angeles
LOCATION:
SUMMARY:Animal Medical Intuition @ Joan's Ranchette
DESCRIPTION:Animal Medical Intuition LIVE In-person\,  hands-on Animal Medical Intuition One of the top reasons for animal communication is absolutely: medical intuition.  Medical intuition is handy for things like understanding a sudden behavioral shift &#8211; the animal suddenly got snarky or snappy.  Or they are lethargic. Sometimes animals just don’t feel[..]\nhttps://cwalu.com/events/animal-medical-intuition-live/
URL:https://cwalu.com/events/animal-medical-intuition-live/
END:VEVENT
END:VCALENDAR