BEGIN:VCALENDAR
VERSION:2.0
PRODID:-//eventon.com NONSGML v1.0//EN
CALSCALE:GREGORIAN
METHOD:PUBLISH
BEGIN:VEVENT
UID:69e5f915f1994
DTSTAMP:20260420T025949
DTSTART:20230801
DTEND:20230802
TZID:America/Los_Angeles
LOCATION:
SUMMARY:Shelter Initiative in Traverse City\,  MI
DESCRIPTION:Shelter Initiative in Traverse City\,  MI\nhttps://cwalu.com/events/shelter-initiative-in-traverse-city-mi/
URL:https://cwalu.com/events/shelter-initiative-in-traverse-city-mi/
END:VEVENT
END:VCALENDAR