BEGIN:VCALENDAR
VERSION:2.0
PRODID:-//eventon.com NONSGML v1.0//EN
CALSCALE:GREGORIAN
METHOD:PUBLISH
BEGIN:VEVENT
UID:69e5f917d811a
DTSTAMP:20260420T025951
DTSTART:20230915T180000Z
DTEND:20230915T210000Z
TZID:America/Los_Angeles
LOCATION:
SUMMARY:Animal Communication at Circles of Wisdom in Methuen\,  MA
DESCRIPTION:Using games and exercises\,  students learn how to use telepathy (the sending and receiving of pictures\,  words\,  and feelings) to enhance their human/animal relationships. They learn to “re-frame” the picture in order to address any behavioral and health challenges they may be experiencing. Participants are asked to bring a picture[..]\nhttps://cwalu.com/events/animal-communication-at-circles-of-wisdom-in-methuen-ma/
URL:https://cwalu.com/events/animal-communication-at-circles-of-wisdom-in-methuen-ma/
END:VEVENT
END:VCALENDAR