BEGIN:VCALENDAR
VERSION:2.0
PRODID:-//eventon.com NONSGML v1.0//EN
CALSCALE:GREGORIAN
METHOD:PUBLISH
BEGIN:VEVENT
UID:69e5f9165f8d5
DTSTAMP:20260420T025950
DTSTART:20231012T120000Z
DTEND:20231014T160000Z
TZID:America/Los_Angeles
LOCATION:
SUMMARY:Fall "Remember" Intensive – Energy Healing for Animals (workshop #3)
DESCRIPTION:Fall &#8220;Remember&#8221; Intensive  The whole Intensive is made up of three 3-day modules over the course of nine days: October 6th &#8211; October 14th\,  2023 Workshop #1: Animal Communication\,  October 6th &#8211; 8th Workshop #2: Animals in Transition (Death\,  Dying\,  and Beyond)\,  October 9th &#8211; 11th Workshop n#3: Energy Healing[..]\nhttps://cwalu.com/events/fall-remember-intensive-energy-healing-for-animals-workshop-3/
URL:https://cwalu.com/events/fall-remember-intensive-energy-healing-for-animals-workshop-3/
END:VEVENT
END:VCALENDAR