BEGIN:VCALENDAR
VERSION:2.0
PRODID:-//eventon.com NONSGML v1.0//EN
CALSCALE:GREGORIAN
METHOD:PUBLISH
BEGIN:VEVENT
UID:69e74dedd9709
DTSTAMP:20260421T031405
DTSTART:20241109T100000Z
DTEND:20241109T160000Z
TZID:America/Los_Angeles
LOCATION:
SUMMARY:Animal Massage with Lola Michelin @ Joan's Ranchette
DESCRIPTION:Join Lola Michelin of Northwest School of Animal Massage (NWSAM) for one day of equine massage and one day of canine massage (one or both!) at Joan&#8217;s Ranchette\,  following the Animal Medical Intuition class! Lola Michelin\,  BSc\,  LMP founded the Northwest School of Animal Massage in 2001. She has practiced[..]\nhttps://cwalu.com/events/animal-massage-weekend-nov/
URL:https://cwalu.com/events/animal-massage-weekend-nov/
END:VEVENT
END:VCALENDAR